BEGIN:VCALENDAR
VERSION:2.0
PRODID:-//Islamic Center of Greater Cincinnati - ECPv6.7.0//NONSGML v1.0//EN
CALSCALE:GREGORIAN
METHOD:PUBLISH
X-ORIGINAL-URL:https://backup.icgc.us
X-WR-CALDESC:Events for Islamic Center of Greater Cincinnati
REFRESH-INTERVAL;VALUE=DURATION:PT1H
X-Robots-Tag:noindex
X-PUBLISHED-TTL:PT1H
BEGIN:VTIMEZONE
TZID:America/Detroit
BEGIN:DAYLIGHT
TZOFFSETFROM:-0500
TZOFFSETTO:-0400
TZNAME:EDT
DTSTART:20240310T070000
END:DAYLIGHT
BEGIN:STANDARD
TZOFFSETFROM:-0400
TZOFFSETTO:-0500
TZNAME:EST
DTSTART:20241103T060000
END:STANDARD
END:VTIMEZONE
BEGIN:VEVENT
DTSTART;TZID=America/Detroit:20240703T183000
DTEND;TZID=America/Detroit:20240703T200000
DTSTAMP:20260419T191425
CREATED:20240224T035042Z
LAST-MODIFIED:20240224T035043Z
UID:10001392-1720031400-1720036800@backup.icgc.us
SUMMARY:Khatirah
DESCRIPTION:
URL:https://backup.icgc.us/event/8289-2/2024-07-03/
LOCATION:Islamic Center of Greater Cincinnati\, 8092 Plantation Drive\, West Chester\, OH\, 45069\, United States
CATEGORIES:Education
END:VEVENT
BEGIN:VEVENT
DTSTART;TZID=America/Detroit:20240710T183000
DTEND;TZID=America/Detroit:20240710T200000
DTSTAMP:20260419T191425
CREATED:20240224T035042Z
LAST-MODIFIED:20240224T035043Z
UID:10001393-1720636200-1720641600@backup.icgc.us
SUMMARY:Khatirah
DESCRIPTION:
URL:https://backup.icgc.us/event/8289-2/2024-07-10/
LOCATION:Islamic Center of Greater Cincinnati\, 8092 Plantation Drive\, West Chester\, OH\, 45069\, United States
CATEGORIES:Education
END:VEVENT
BEGIN:VEVENT
DTSTART;TZID=America/Detroit:20240713T130000
DTEND;TZID=America/Detroit:20240713T140000
DTSTAMP:20260419T191425
CREATED:20231122T140450Z
LAST-MODIFIED:20231122T153539Z
UID:10000020-1720875600-1720879200@backup.icgc.us
SUMMARY:Know Your Neighbor - July
DESCRIPTION:We would like to welcome our guests for the open house tour.\nPlease join us at 1:00 p.m. for a brief tour \nPlease RSVP with # of guests attending at\ntours@backup.icgc.us Or Click here to RSVP
URL:https://backup.icgc.us/event/know-your-neighbor-july/2024-07-13/
LOCATION:Islamic Center of Greater Cincinnati\, 8092 Plantation Drive\, West Chester\, OH\, 45069\, United States
ATTACH;FMTTYPE=image/jpeg:https://backup.icgc.us/wp-content/uploads/2023/10/2024-KYN.jpg
END:VEVENT
BEGIN:VEVENT
DTSTART;TZID=America/Detroit:20240717T183000
DTEND;TZID=America/Detroit:20240717T200000
DTSTAMP:20260419T191425
CREATED:20240224T035042Z
LAST-MODIFIED:20240224T035043Z
UID:10001394-1721241000-1721246400@backup.icgc.us
SUMMARY:Khatirah
DESCRIPTION:
URL:https://backup.icgc.us/event/8289-2/2024-07-17/
LOCATION:Islamic Center of Greater Cincinnati\, 8092 Plantation Drive\, West Chester\, OH\, 45069\, United States
CATEGORIES:Education
END:VEVENT
BEGIN:VEVENT
DTSTART;TZID=America/Detroit:20240724T183000
DTEND;TZID=America/Detroit:20240724T200000
DTSTAMP:20260419T191425
CREATED:20240224T035042Z
LAST-MODIFIED:20240224T035043Z
UID:10001395-1721845800-1721851200@backup.icgc.us
SUMMARY:Khatirah
DESCRIPTION:
URL:https://backup.icgc.us/event/8289-2/2024-07-24/
LOCATION:Islamic Center of Greater Cincinnati\, 8092 Plantation Drive\, West Chester\, OH\, 45069\, United States
CATEGORIES:Education
END:VEVENT
BEGIN:VEVENT
DTSTART;TZID=America/Detroit:20240731T183000
DTEND;TZID=America/Detroit:20240731T200000
DTSTAMP:20260419T191425
CREATED:20240224T035042Z
LAST-MODIFIED:20240224T035043Z
UID:10001396-1722450600-1722456000@backup.icgc.us
SUMMARY:Khatirah
DESCRIPTION:
URL:https://backup.icgc.us/event/8289-2/2024-07-31/
LOCATION:Islamic Center of Greater Cincinnati\, 8092 Plantation Drive\, West Chester\, OH\, 45069\, United States
CATEGORIES:Education
END:VEVENT
END:VCALENDAR