BEGIN:VCALENDAR
VERSION:2.0
PRODID:-//Islamic Center of Greater Cincinnati - ECPv6.7.0//NONSGML v1.0//EN
CALSCALE:GREGORIAN
METHOD:PUBLISH
X-WR-CALNAME:Islamic Center of Greater Cincinnati
X-ORIGINAL-URL:https://backup.icgc.us
X-WR-CALDESC:Events for Islamic Center of Greater Cincinnati
REFRESH-INTERVAL;VALUE=DURATION:PT1H
X-Robots-Tag:noindex
X-PUBLISHED-TTL:PT1H
BEGIN:VTIMEZONE
TZID:America/Detroit
BEGIN:DAYLIGHT
TZOFFSETFROM:-0500
TZOFFSETTO:-0400
TZNAME:EDT
DTSTART:20240310T070000
END:DAYLIGHT
BEGIN:STANDARD
TZOFFSETFROM:-0400
TZOFFSETTO:-0500
TZNAME:EST
DTSTART:20241103T060000
END:STANDARD
END:VTIMEZONE
BEGIN:VEVENT
DTSTART;TZID=America/Detroit:20240626T183000
DTEND;TZID=America/Detroit:20240626T200000
DTSTAMP:20260419T210836
CREATED:20240224T035042Z
LAST-MODIFIED:20240224T035043Z
UID:10001391-1719426600-1719432000@backup.icgc.us
SUMMARY:Khatirah
DESCRIPTION:
URL:https://backup.icgc.us/event/8289-2/2024-06-26/
LOCATION:Islamic Center of Greater Cincinnati\, 8092 Plantation Drive\, West Chester\, OH\, 45069\, United States
CATEGORIES:Education
END:VEVENT
BEGIN:VEVENT
DTSTART;TZID=America/Detroit:20240629T183000
DTEND;TZID=America/Detroit:20240629T210000
DTSTAMP:20260419T210836
CREATED:20240625T133958Z
LAST-MODIFIED:20240625T134022Z
UID:10001634-1719685800-1719694800@backup.icgc.us
SUMMARY:Ted-Like Talk Event
DESCRIPTION:On Saturday\, June 29th\, join ICGC’s Cincinnati Muslim Professionals for an evening highlighting Muslim narratives in our community. Guests will hear from inspirational individuals\, and engage in interactive conversations\, and community building. Refreshments will be served! \nLocation: ICGC Mirror Hall\nLink to register: https://www.cognitoforms.com/ICGC6/CMP2024TedLikeEventCincinnatiMuslimsOwningOurNarrative
URL:https://backup.icgc.us/event/ted-like-talk-event/
LOCATION:Islamic Center of Greater Cincinnati\, 8092 Plantation Drive\, West Chester\, OH\, 45069\, United States
ATTACH;FMTTYPE=image/png:https://backup.icgc.us/wp-content/uploads/2024/06/CMP-2024-Ted-like-Talk-V2.png
END:VEVENT
END:VCALENDAR