BEGIN:VCALENDAR
VERSION:2.0
PRODID:-//Islamic Center of Greater Cincinnati - ECPv6.7.0//NONSGML v1.0//EN
CALSCALE:GREGORIAN
METHOD:PUBLISH
X-ORIGINAL-URL:https://backup.icgc.us
X-WR-CALDESC:Events for Islamic Center of Greater Cincinnati
REFRESH-INTERVAL;VALUE=DURATION:PT1H
X-Robots-Tag:noindex
X-PUBLISHED-TTL:PT1H
BEGIN:VTIMEZONE
TZID:America/Detroit
BEGIN:DAYLIGHT
TZOFFSETFROM:-0500
TZOFFSETTO:-0400
TZNAME:EDT
DTSTART:20240310T070000
END:DAYLIGHT
BEGIN:STANDARD
TZOFFSETFROM:-0400
TZOFFSETTO:-0500
TZNAME:EST
DTSTART:20241103T060000
END:STANDARD
END:VTIMEZONE
BEGIN:VEVENT
DTSTART;TZID=America/Detroit:20240202T170000
DTEND;TZID=America/Detroit:20240202T220000
DTSTAMP:20260420T061629
CREATED:20231222T210856Z
LAST-MODIFIED:20231222T210856Z
UID:10001111-1706893200-1706911200@backup.icgc.us
SUMMARY:Friday Night Girls Program
DESCRIPTION:
URL:https://backup.icgc.us/event/friday-night-girls-program/2024-02-02/
LOCATION:Islamic Center of Greater Cincinnati\, 8092 Plantation Drive\, West Chester\, OH\, 45069\, United States
END:VEVENT
BEGIN:VEVENT
DTSTART;TZID=America/Detroit:20240203T130000
DTEND;TZID=America/Detroit:20240203T160000
DTSTAMP:20260420T061629
CREATED:20231222T211223Z
LAST-MODIFIED:20231222T211223Z
UID:10001117-1706965200-1706976000@backup.icgc.us
SUMMARY:Hijab Day Youth Event
DESCRIPTION:
URL:https://backup.icgc.us/event/hijab-day-youth-event/
LOCATION:Islamic Center of Greater Cincinnati\, 8092 Plantation Drive\, West Chester\, OH\, 45069\, United States
END:VEVENT
BEGIN:VEVENT
DTSTART;TZID=America/Detroit:20240204T150000
DTEND;TZID=America/Detroit:20240204T170000
DTSTAMP:20260420T061629
CREATED:20231222T211320Z
LAST-MODIFIED:20231222T211320Z
UID:10001118-1707058800-1707066000@backup.icgc.us
SUMMARY:Youth Ramadan Prep
DESCRIPTION:
URL:https://backup.icgc.us/event/youth-ramadan-prep/
LOCATION:Islamic Center of Greater Cincinnati\, 8092 Plantation Drive\, West Chester\, OH\, 45069\, United States
END:VEVENT
BEGIN:VEVENT
DTSTART;TZID=America/Detroit:20240207T193000
DTEND;TZID=America/Detroit:20240207T203000
DTSTAMP:20260420T061629
CREATED:20240130T211459Z
LAST-MODIFIED:20240130T212349Z
UID:10001131-1707334200-1707337800@backup.icgc.us
SUMMARY:Khatirah
DESCRIPTION:
URL:https://backup.icgc.us/event/8289/2024-02-07/
LOCATION:Islamic Center of Greater Cincinnati\, 8092 Plantation Drive\, West Chester\, OH\, 45069\, United States
END:VEVENT
BEGIN:VEVENT
DTSTART;TZID=America/Detroit:20240209T170000
DTEND;TZID=America/Detroit:20240209T220000
DTSTAMP:20260420T061629
CREATED:20231222T210526Z
LAST-MODIFIED:20231222T211043Z
UID:10001113-1707498000-1707516000@backup.icgc.us
SUMMARY:Friday Night Boys Program
DESCRIPTION:
URL:https://backup.icgc.us/event/friday-night-boys-program/2024-02-09/
LOCATION:Islamic Center of Greater Cincinnati\, 8092 Plantation Drive\, West Chester\, OH\, 45069\, United States
END:VEVENT
BEGIN:VEVENT
DTSTART;TZID=America/Detroit:20240209T170000
DTEND;TZID=America/Detroit:20240209T220000
DTSTAMP:20260420T061629
CREATED:20240111T195924Z
LAST-MODIFIED:20240111T195924Z
UID:10001125-1707498000-1707516000@backup.icgc.us
SUMMARY:Speaker Event - Imam Hossam Musa
DESCRIPTION:
URL:https://backup.icgc.us/event/speaker-event-imam-hossam-musa/
LOCATION:Islamic Center of Greater Cincinnati\, 8092 Plantation Drive\, West Chester\, OH\, 45069\, United States
END:VEVENT
BEGIN:VEVENT
DTSTART;TZID=America/Detroit:20240210T103000
DTEND;TZID=America/Detroit:20240210T120000
DTSTAMP:20260420T061629
CREATED:20231222T210643Z
LAST-MODIFIED:20231222T211144Z
UID:10001116-1707561000-1707566400@backup.icgc.us
SUMMARY:Kids Korner
DESCRIPTION:
URL:https://backup.icgc.us/event/kids-korner/2024-02-10/
LOCATION:Islamic Center of Greater Cincinnati\, 8092 Plantation Drive\, West Chester\, OH\, 45069\, United States
END:VEVENT
BEGIN:VEVENT
DTSTART;TZID=America/Detroit:20240210T140000
DTEND;TZID=America/Detroit:20240210T170000
DTSTAMP:20260420T061629
CREATED:20231222T211354Z
LAST-MODIFIED:20231222T211354Z
UID:10001119-1707573600-1707584400@backup.icgc.us
SUMMARY:HS Ramadan Prep Program
DESCRIPTION:
URL:https://backup.icgc.us/event/hs-ramadan-prep-program/
LOCATION:Islamic Center of Greater Cincinnati\, 8092 Plantation Drive\, West Chester\, OH\, 45069\, United States
END:VEVENT
BEGIN:VEVENT
DTSTART;TZID=America/Detroit:20240211T160000
DTEND;TZID=America/Detroit:20240211T190000
DTSTAMP:20260420T061629
CREATED:20231222T211427Z
LAST-MODIFIED:20231222T211427Z
UID:10001120-1707667200-1707678000@backup.icgc.us
SUMMARY:DIY Kids Workshop
DESCRIPTION:
URL:https://backup.icgc.us/event/diy-kids-workshop/
LOCATION:Islamic Center of Greater Cincinnati\, 8092 Plantation Drive\, West Chester\, OH\, 45069\, United States
END:VEVENT
BEGIN:VEVENT
DTSTART;TZID=America/Detroit:20240214T193000
DTEND;TZID=America/Detroit:20240214T203000
DTSTAMP:20260420T061629
CREATED:20240130T211459Z
LAST-MODIFIED:20240130T212349Z
UID:10001132-1707939000-1707942600@backup.icgc.us
SUMMARY:Khatirah
DESCRIPTION:
URL:https://backup.icgc.us/event/8289/2024-02-14/
LOCATION:Islamic Center of Greater Cincinnati\, 8092 Plantation Drive\, West Chester\, OH\, 45069\, United States
END:VEVENT
BEGIN:VEVENT
DTSTART;TZID=America/Detroit:20240216T170000
DTEND;TZID=America/Detroit:20240216T220000
DTSTAMP:20260420T061629
CREATED:20231222T210526Z
LAST-MODIFIED:20231222T211043Z
UID:10001114-1708102800-1708120800@backup.icgc.us
SUMMARY:Friday Night Boys Program
DESCRIPTION:
URL:https://backup.icgc.us/event/friday-night-boys-program/2024-02-16/
LOCATION:Islamic Center of Greater Cincinnati\, 8092 Plantation Drive\, West Chester\, OH\, 45069\, United States
END:VEVENT
BEGIN:VEVENT
DTSTART;TZID=America/Detroit:20240217T150000
DTEND;TZID=America/Detroit:20240217T180000
DTSTAMP:20260420T061629
CREATED:20231222T211517Z
LAST-MODIFIED:20231222T211517Z
UID:10001121-1708182000-1708192800@backup.icgc.us
SUMMARY:Youth Indoor Roller Skating Night
DESCRIPTION:
URL:https://backup.icgc.us/event/youth-indoor-roller-skating-night/
LOCATION:Islamic Center of Greater Cincinnati\, 8092 Plantation Drive\, West Chester\, OH\, 45069\, United States
END:VEVENT
BEGIN:VEVENT
DTSTART;TZID=America/Detroit:20240219T163000
DTEND;TZID=America/Detroit:20240219T220000
DTSTAMP:20260420T061629
CREATED:20240111T195417Z
LAST-MODIFIED:20240111T195417Z
UID:10001123-1708360200-1708380000@backup.icgc.us
SUMMARY:Speaker Event - Yasir Qadhi
DESCRIPTION:
URL:https://backup.icgc.us/event/speaker-event-yasir-qadhi/
LOCATION:Islamic Center of Greater Cincinnati\, 8092 Plantation Drive\, West Chester\, OH\, 45069\, United States
END:VEVENT
BEGIN:VEVENT
DTSTART;TZID=America/Detroit:20240221T183000
DTEND;TZID=America/Detroit:20240221T193000
DTSTAMP:20260420T061629
CREATED:20240130T211459Z
LAST-MODIFIED:20240130T212349Z
UID:10001133-1708540200-1708543800@backup.icgc.us
SUMMARY:Khatirah
DESCRIPTION:
URL:https://backup.icgc.us/event/8289/2024-02-21/1/
LOCATION:Islamic Center of Greater Cincinnati\, 8092 Plantation Drive\, West Chester\, OH\, 45069\, United States
END:VEVENT
BEGIN:VEVENT
DTSTART;TZID=America/Detroit:20240221T193000
DTEND;TZID=America/Detroit:20240221T203000
DTSTAMP:20260420T061629
CREATED:20240130T211459Z
LAST-MODIFIED:20240130T212349Z
UID:10001134-1708543800-1708547400@backup.icgc.us
SUMMARY:Khatirah
DESCRIPTION:
URL:https://backup.icgc.us/event/8289/2024-02-21/2/
LOCATION:Islamic Center of Greater Cincinnati\, 8092 Plantation Drive\, West Chester\, OH\, 45069\, United States
END:VEVENT
BEGIN:VEVENT
DTSTART;TZID=America/Detroit:20240228T183000
DTEND;TZID=America/Detroit:20240228T200000
DTSTAMP:20260420T061629
CREATED:20240224T035042Z
LAST-MODIFIED:20240224T035043Z
UID:10001135-1709145000-1709150400@backup.icgc.us
SUMMARY:Khatirah
DESCRIPTION:
URL:https://backup.icgc.us/event/8289-2/2024-02-28/
LOCATION:Islamic Center of Greater Cincinnati\, 8092 Plantation Drive\, West Chester\, OH\, 45069\, United States
CATEGORIES:Education
END:VEVENT
END:VCALENDAR