BEGIN:VCALENDAR
VERSION:2.0
PRODID:-//Islamic Center of Greater Cincinnati - ECPv6.7.0//NONSGML v1.0//EN
CALSCALE:GREGORIAN
METHOD:PUBLISH
X-WR-CALNAME:Islamic Center of Greater Cincinnati
X-ORIGINAL-URL:https://backup.icgc.us
X-WR-CALDESC:Events for Islamic Center of Greater Cincinnati
REFRESH-INTERVAL;VALUE=DURATION:PT1H
X-Robots-Tag:noindex
X-PUBLISHED-TTL:PT1H
BEGIN:VTIMEZONE
TZID:America/Detroit
BEGIN:DAYLIGHT
TZOFFSETFROM:-0500
TZOFFSETTO:-0400
TZNAME:EDT
DTSTART:20280312T070000
END:DAYLIGHT
BEGIN:STANDARD
TZOFFSETFROM:-0400
TZOFFSETTO:-0500
TZNAME:EST
DTSTART:20281105T060000
END:STANDARD
END:VTIMEZONE
BEGIN:VEVENT
DTSTART;TZID=America/Detroit:20280906T183000
DTEND;TZID=America/Detroit:20280906T200000
DTSTAMP:20260423T164205
CREATED:20240224T035042Z
LAST-MODIFIED:20240224T035043Z
UID:10001609-1851877800-1851883200@backup.icgc.us
SUMMARY:Khatirah
DESCRIPTION:
URL:https://backup.icgc.us/event/8289-2/2028-09-06/
LOCATION:Islamic Center of Greater Cincinnati\, 8092 Plantation Drive\, West Chester\, OH\, 45069\, United States
CATEGORIES:Education
END:VEVENT
BEGIN:VEVENT
DTSTART;TZID=America/Detroit:20280913T183000
DTEND;TZID=America/Detroit:20280913T200000
DTSTAMP:20260423T164205
CREATED:20240224T035042Z
LAST-MODIFIED:20240224T035043Z
UID:10001610-1852482600-1852488000@backup.icgc.us
SUMMARY:Khatirah
DESCRIPTION:
URL:https://backup.icgc.us/event/8289-2/2028-09-13/
LOCATION:Islamic Center of Greater Cincinnati\, 8092 Plantation Drive\, West Chester\, OH\, 45069\, United States
CATEGORIES:Education
END:VEVENT
BEGIN:VEVENT
DTSTART;TZID=America/Detroit:20280920T183000
DTEND;TZID=America/Detroit:20280920T200000
DTSTAMP:20260423T164205
CREATED:20240224T035042Z
LAST-MODIFIED:20240224T035043Z
UID:10001611-1853087400-1853092800@backup.icgc.us
SUMMARY:Khatirah
DESCRIPTION:
URL:https://backup.icgc.us/event/8289-2/2028-09-20/
LOCATION:Islamic Center of Greater Cincinnati\, 8092 Plantation Drive\, West Chester\, OH\, 45069\, United States
CATEGORIES:Education
END:VEVENT
BEGIN:VEVENT
DTSTART;TZID=America/Detroit:20280927T183000
DTEND;TZID=America/Detroit:20280927T200000
DTSTAMP:20260423T164205
CREATED:20240224T035042Z
LAST-MODIFIED:20240224T035043Z
UID:10001612-1853692200-1853697600@backup.icgc.us
SUMMARY:Khatirah
DESCRIPTION:
URL:https://backup.icgc.us/event/8289-2/2028-09-27/
LOCATION:Islamic Center of Greater Cincinnati\, 8092 Plantation Drive\, West Chester\, OH\, 45069\, United States
CATEGORIES:Education
END:VEVENT
END:VCALENDAR