BEGIN:VCALENDAR
VERSION:2.0
PRODID:-//Islamic Center of Greater Cincinnati - ECPv6.7.0//NONSGML v1.0//EN
CALSCALE:GREGORIAN
METHOD:PUBLISH
X-ORIGINAL-URL:https://backup.icgc.us
X-WR-CALDESC:Events for Islamic Center of Greater Cincinnati
REFRESH-INTERVAL;VALUE=DURATION:PT1H
X-Robots-Tag:noindex
X-PUBLISHED-TTL:PT1H
BEGIN:VTIMEZONE
TZID:America/Detroit
BEGIN:DAYLIGHT
TZOFFSETFROM:-0500
TZOFFSETTO:-0400
TZNAME:EDT
DTSTART:20240310T070000
END:DAYLIGHT
BEGIN:STANDARD
TZOFFSETFROM:-0400
TZOFFSETTO:-0500
TZNAME:EST
DTSTART:20241103T060000
END:STANDARD
END:VTIMEZONE
BEGIN:VEVENT
DTSTART;TZID=America/Detroit:20240308T183000
DTEND;TZID=America/Detroit:20240308T210000
DTSTAMP:20260420T055411
CREATED:20240111T200121Z
LAST-MODIFIED:20240303T203818Z
UID:10001127-1709922600-1709931600@backup.icgc.us
SUMMARY:Education Team - Prep for Ramadan
DESCRIPTION:As Ramadan around the corner\, the Education Team invites to a great session on Friday March 8th with Imam Musa on preparation for Ramadan and also to go through a Q & A session. \nLecture will start after Maghrib prayer at the Musalah. Please bring your family and friends. \nIf you have a question\, please use this link to enter your Question HERE \nBabysitting will be offered between Maghrib and Isha for kids ages : 3-8yrs during the lecture in room C-109 (ICGC Gym). Need to register for Babysitting here    \n 
URL:https://backup.icgc.us/event/ramadan_prep_2024/
LOCATION:Islamic Center of Greater Cincinnati\, 8092 Plantation Drive\, West Chester\, OH\, 45069\, United States
CATEGORIES:Education
END:VEVENT
END:VCALENDAR